BEGIN:VCALENDAR
VERSION:2.0
PRODID:TU Chemnitz
METHOD:PUBLISH
X-WR-CALNAME:Veranstaltungen der TU Chemnitz
X-WR-TIMEZONE:Europe/Berlin
BEGIN:VEVENT
CLASS:PUBLIC
DTSTART;TZID="Europe/Berlin":20080325T193000
DTEND;TZID="Europe/Berlin":20080325T235900
LOCATION:Reichenhainer Str. 55\, Chemnitz (Mensa)
SUMMARY:99er Ferienkneipe
DESCRIPTION:viele verschiedene Getränkespecials\nDart\, Billiard oder sonstige Gesellschaftsspiele for free\nDazu wird das Pokerequipment kostenlos zur Verfügung gestellt
ORGANIZER:MAILTO:christian.piek@s1999.tu-chemnitz.de
UID:9985@www.tu-chemnitz.de
CREATED:20080322T115500Z
DTSTAMP:20210802T194330Z
END:VEVENT
END:VCALENDAR
