BEGIN:VCALENDAR
VERSION:2.0
PRODID:TU Chemnitz
METHOD:PUBLISH
X-WR-CALNAME:Veranstaltungen der TU Chemnitz
X-WR-TIMEZONE:Europe/Berlin
BEGIN:VEVENT
CLASS:PUBLIC
DTSTART;TZID="Europe/Berlin":20000406T100000
DTEND;TZID="Europe/Berlin":20000406T113000
LOCATION:Uni-Teil 3: Reichenhainer Str. 70\, Chemnitz (Zentr. Hörsaal- und Seminargebäude)
SUMMARY:Seminar "Systemwissenschaften" - Einsatz des Multisensormoduls MSM 8.1 zum Wasserqualitätsmonitoring im Umweltbereich (Fakultät für Elektrotechnik und Informationstechnik\, Professur für Systemtheorie)
DESCRIPTION:- Aufbau und Eigenschaften des MSM 8.1\n- ausgewählte Anwendungsfälle\nHerr Dr. G. Pausch
ORGANIZER:MAILTO:mipa@hrz.tu-chemnitz.de
UID:998@www.tu-chemnitz.de
CREATED:20000306T130800Z
DTSTAMP:20210802T203114Z
END:VEVENT
END:VCALENDAR
