BEGIN:VCALENDAR
VERSION:2.0
PRODID:TU Chemnitz
METHOD:PUBLISH
X-WR-CALNAME:Veranstaltungen der TU Chemnitz
X-WR-TIMEZONE:Europe/Berlin
BEGIN:VEVENT
CLASS:PUBLIC
DTSTART;TZID="Europe/Berlin":20080424T090000
DTEND;TZID="Europe/Berlin":20080424T130000
LOCATION:Reichenhainer Str. 90\, Chemnitz (Zentr. Hörsaal- und Seminargebäude)
SUMMARY:Girls´Day im Lernzentrum: Erlebe Physik und Technik! (Fakultät für Maschinenbau\, CreativeCenter)
DESCRIPTION:Exponate zum Anfassen aus den Bereichen Physik\, Mathematik\, Wahrnehmung und Technik.\nErlebe die Technik! Werkstücke leicht gemacht: Hier darf jeder probieren - mit CNC von der Programmbedienung bis zum Fräsvorgang.\nYvonne Gerstenberger\, Tel.: 0371/ 531 23880\, E-Mail: yvonne.gerstenberger@mb.tu-chemnitz.de
ORGANIZER:MAILTO:jana.voigt@mb.tu-chemnitz.de
UID:9979@www.tu-chemnitz.de
CREATED:20080321T130600Z
DTSTAMP:20210802T194241Z
END:VEVENT
END:VCALENDAR
