BEGIN:VCALENDAR
VERSION:2.0
PRODID:TU Chemnitz
METHOD:PUBLISH
X-WR-CALNAME:Veranstaltungen der TU Chemnitz
X-WR-TIMEZONE:Europe/Berlin
BEGIN:VEVENT
CLASS:PUBLIC
DTSTART;TZID="Europe/Berlin":20080423T173000
DTEND;TZID="Europe/Berlin":20080423T190000
LOCATION:Reichenhainer Str. 70\, Chemnitz (Rühlmann-Bau)
SUMMARY:Chancen für Akademiker im Ausland (Agentur für Arbeit Chemnitz/Hochschulteam)
DESCRIPTION:Wege der individuellen Arbeitsuche\, Bewerben und Vorstellen\,\nAnerkennen des Berufsabschlusses\, Sozialversicherung\,\nrechtliche Formalitäten\nFrau Näke\, Auslandsvermittlung Dresden\nChemnitz.Hochschulteam@arbeitsagentur.de\, Tel. 0371/567-2240
ORGANIZER:MAILTO:evelin.haeusler@verwaltung.tu-chemnitz.de
UID:9964@www.tu-chemnitz.de
CREATED:20080320T142300Z
DTSTAMP:20210802T194240Z
END:VEVENT
END:VCALENDAR
