BEGIN:VCALENDAR
VERSION:2.0
PRODID:TU Chemnitz
METHOD:PUBLISH
X-WR-CALNAME:Veranstaltungen der TU Chemnitz
X-WR-TIMEZONE:Europe/Berlin
BEGIN:VEVENT
CLASS:PUBLIC
DTSTART;TZID="Europe/Berlin":20080313T200000
DTEND;TZID="Europe/Berlin":20080313T235900
LOCATION:* Bunker-Club * Rosenplatz 7 * gleich am Campus *
SUMMARY:ROCK HEROES ON STAGE: BRIAN ROBERTSON & FIVE FIFTEEN
DESCRIPTION:Brian Robertson - High-End-Gitarrist einst bei Thin Lizzy und in den 80ern bei Motörhead(!!!) - tourt zusammen mit Freunden aus Finnland durch Europa und verläuft sich heute nach Chemnitz ...\ndoors: 20:00
ORGANIZER:MAILTO:joerg.schneider@mathematik.tu-chemnitz.de
UID:9944@www.tu-chemnitz.de
CREATED:20080313T154300Z
DTSTAMP:20210802T194331Z
END:VEVENT
END:VCALENDAR
