BEGIN:VCALENDAR
VERSION:2.0
PRODID:TU Chemnitz
METHOD:PUBLISH
X-WR-CALNAME:Veranstaltungen der TU Chemnitz
X-WR-TIMEZONE:Europe/Berlin
BEGIN:VEVENT
CLASS:PUBLIC
DTSTART;TZID="Europe/Berlin":20000419T170000
DTEND;TZID="Europe/Berlin":20000419T183000
LOCATION:Uni-Teil 3: Reichenhainer Str. 70\, Chemnitz (Zentr. Hörsaal- und Seminargebäude)
SUMMARY:Der Uranbergbau der SDAG Wismut und die Stilllegung\, Sanierung und Wiedernutzbarmachung durch die WISMUT GmbH (Fakultät für Naturwissenschaften\, Institut für Physik)
DESCRIPTION:Physikalisches Kolloquium\nProf. Dr.Rimbert Gatzweiler\, WISMUT GmbH\nDr. Rüdiger Glauche\, Tel. 531-3051
ORGANIZER:MAILTO:flei@hrz.tu-chemnitz.de
UID:992@www.tu-chemnitz.de
CREATED:20000303T075900Z
DTSTAMP:20210802T203110Z
END:VEVENT
END:VCALENDAR
