BEGIN:VCALENDAR
VERSION:2.0
PRODID:TU Chemnitz
METHOD:PUBLISH
X-WR-CALNAME:Veranstaltungen der TU Chemnitz
X-WR-TIMEZONE:Europe/Berlin
BEGIN:VEVENT
CLASS:PUBLIC
DTSTART;TZID="Europe/Berlin":20080520T130000
DTEND;TZID="Europe/Berlin":20080520T180000
LOCATION:Reichenhainer Str. 70\, Chemnitz (Weinhold-Bau)
SUMMARY:Lernzentrum: "Mit dem zweiten Blick – der BewerbungsCheck" (Fakultät für Maschinenbau\, CreativeCenter)
DESCRIPTION:In einem ca. 1/2h Gespräch werden Bewerbungsunterlagen begutachtet und Verbesserungsvorschläge hinsichtlich Vollständigkeit\, Übersichtlichkeit\, Gliederung und Formulierungen gegeben. \nKosten: 4\,00 € Schüler/Studierende; 5\,50 € Erwachsene\nAnmeldung: Franziska Freund\, Tel.: 0371 / 531-36596\, franziska.freund@mb.tu-chemnitz.de
ORGANIZER:MAILTO:franziska.freund@mb.tu-chemnitz.de
UID:9917@www.tu-chemnitz.de
CREATED:20080310T133900Z
DTSTAMP:20210802T194157Z
END:VEVENT
END:VCALENDAR
