BEGIN:VCALENDAR
VERSION:2.0
PRODID:TU Chemnitz
METHOD:PUBLISH
X-WR-CALNAME:Veranstaltungen der TU Chemnitz
X-WR-TIMEZONE:Europe/Berlin
BEGIN:VEVENT
CLASS:PUBLIC
DTSTART;TZID="Europe/Berlin":20000412T170000
DTEND;TZID="Europe/Berlin":20000412T183000
LOCATION:Uni-Teil 3: Reichenhainer Str. 70\, Chemnitz (Zentr. Hörsaal- und Seminargebäude)
SUMMARY:Nanoakustik (Fakultät für Naturwissenschaften\, Institut für Physik)
DESCRIPTION:Physikalisches Kolloquium\nDr. Eduard Chilla (Paul-Drude-Institut für Festkörperelektronik Berlin)\nProf. Dr. M. Hietschold\, Tel. 531 3203
ORGANIZER:MAILTO:flei@hrz.tu-chemnitz.de
UID:991@www.tu-chemnitz.de
CREATED:20000302T163200Z
DTSTAMP:20210802T203109Z
END:VEVENT
END:VCALENDAR
