BEGIN:VCALENDAR
VERSION:2.0
PRODID:TU Chemnitz
METHOD:PUBLISH
X-WR-CALNAME:Veranstaltungen der TU Chemnitz
X-WR-TIMEZONE:Europe/Berlin
BEGIN:VEVENT
CLASS:PUBLIC
DTSTART;TZID="Europe/Berlin":20080304T200000
DTEND;TZID="Europe/Berlin":20080304T235900
LOCATION:Reichenhainer Str. 55\, Chemnitz (Mensa)
SUMMARY:Championsleague live
DESCRIPTION:live AC Mailand gegen Arsenal London\nnach dem torlosen Hinspiel ist ein Tor garantiert\nim Anschluß die anderen Begegnungen in ausführlicher Zusammenfassung
ORGANIZER:MAILTO:christian.piek@s1999.tu-chemnitz.de
UID:9896@www.tu-chemnitz.de
CREATED:20080304T132200Z
DTSTAMP:20210802T194331Z
END:VEVENT
END:VCALENDAR
