BEGIN:VCALENDAR
VERSION:2.0
PRODID:TU Chemnitz
METHOD:PUBLISH
X-WR-CALNAME:Veranstaltungen der TU Chemnitz
X-WR-TIMEZONE:Europe/Berlin
BEGIN:VEVENT
CLASS:PUBLIC
DTSTART;TZID="Europe/Berlin":20080312T160000
DTEND;TZID="Europe/Berlin":20080312T180000
LOCATION:Oper Chemnitz
SUMMARY:davor - danach - dabei (Ballett Chemnitz)
DESCRIPTION:Eine Diskussionsrunde über das Künstlerleben von Tänzern unter der Leitung des Theaterkritikers Volkmar Dräger.
ORGANIZER:MAILTO:ivonne.fischer@s2000.tu-chemnitz.de
UID:9891@www.tu-chemnitz.de
CREATED:20080227T103100Z
DTSTAMP:20210802T194329Z
END:VEVENT
END:VCALENDAR
