BEGIN:VCALENDAR
VERSION:2.0
PRODID:TU Chemnitz
METHOD:PUBLISH
X-WR-CALNAME:Veranstaltungen der TU Chemnitz
X-WR-TIMEZONE:Europe/Berlin
BEGIN:VEVENT
CLASS:PUBLIC
DTSTART;TZID="Europe/Berlin":20080301T100000
DTEND;TZID="Europe/Berlin":20080301T160000
LOCATION:Reichenhainer Str. 41\, Chemnitz
SUMMARY:Tag der Archive (TU Chemnitz\, Universitätsarchiv)
DESCRIPTION:Am deutschlandweiten "Tag der Archive" am 1. März 2008 lädt das Universitätsarchiv von 10.00 bis 16.00 Uhr zu einer Präsentation ein\, die erzählt\, wie eine Ausstellung entsteht.\nStephan Luther\, uni-archiv@tu-chemnitz.de
ORGANIZER:MAILTO:stephan.luther@hrz.tu-chemnitz.de
UID:9882@www.tu-chemnitz.de
CREATED:20080225T154500Z
DTSTAMP:20210802T194331Z
END:VEVENT
END:VCALENDAR
