BEGIN:VCALENDAR
VERSION:2.0
PRODID:TU Chemnitz
METHOD:PUBLISH
X-WR-CALNAME:Veranstaltungen der TU Chemnitz
X-WR-TIMEZONE:Europe/Berlin
BEGIN:VEVENT
CLASS:PUBLIC
DTSTART;TZID="Europe/Berlin":20080319T134500
DTEND;TZID="Europe/Berlin":20080319T151500
LOCATION:Reichenhainer Str. 70\, Chemnitz (Rühlmann-Bau)
SUMMARY:Kursreihe SW-Tools: "Sicheres Programmieren mit PHP" (Universitätsrechenzentrum)
DESCRIPTION:Kurs erstreckt sich über zwei LE; zweite LE am 26.03.08\nDie Teilnehmer werden für sicherheitsrelevante Aspekte der PHP-Programmierung von WWW-Seiten sensibilisiert. Es werden Angriffspunkte demonstriert und Abhilfen erläutert.\nDipl.-Inf. Frank Richter\nAmeldung über Kursseite oder im Nutzerservice des URZ
ORGANIZER:MAILTO:rosita.pudlat@hrz.tu-chemnitz.de
UID:9876@www.tu-chemnitz.de
CREATED:20080222T134400Z
DTSTAMP:20210802T194332Z
END:VEVENT
END:VCALENDAR
