BEGIN:VCALENDAR
VERSION:2.0
PRODID:TU Chemnitz
METHOD:PUBLISH
X-WR-CALNAME:Veranstaltungen der TU Chemnitz
X-WR-TIMEZONE:Europe/Berlin
BEGIN:VEVENT
CLASS:PUBLIC
DTSTART;TZID="Europe/Berlin":20080305T134500
DTEND;TZID="Europe/Berlin":20080305T151500
LOCATION:Reichenhainer Str. 70\, Chemnitz (Rühlmann-Bau)
SUMMARY:Kursreihe SW-Tools: "Effektive Nutzung des Texteditors vim" (Teil 2) (Universitätsrechenzentrum)
DESCRIPTION:Dipl.-Inf. Holger Trapp\nAnmeldung erforderlich; über Kursseite oder im Nutzerservice des URZ
ORGANIZER:MAILTO:rosita.pudlat@hrz.tu-chemnitz.de
UID:9875@www.tu-chemnitz.de
CREATED:20080222T133700Z
DTSTAMP:20210802T194333Z
END:VEVENT
END:VCALENDAR
