BEGIN:VCALENDAR
VERSION:2.0
PRODID:TU Chemnitz
METHOD:PUBLISH
X-WR-CALNAME:Veranstaltungen der TU Chemnitz
X-WR-TIMEZONE:Europe/Berlin
BEGIN:VEVENT
CLASS:PUBLIC
DTSTART;TZID="Europe/Berlin":20080304T090000
DTEND;TZID="Europe/Berlin":20080309T180000
LOCATION:Messegelände Hannover
SUMMARY:Future Truck auf CeBIT in Hannover (Fakultät für Maschinenbau\, CreativeCenter)
DESCRIPTION:Mit zahlreichen Experimenten an Bord begeistert der Future Truck für Technik und Naturwissenschaften\,informiert über Berufe und Studienmöglichkeiten und weckt Lust zum Lernen.\nVeronika Mühlhausen\, Tel. 0371/53136728\, Mail: ccc@mb.tu-chemnitz.de
ORGANIZER:MAILTO:jana.voigt@mb.tu-chemnitz.de
UID:9867@www.tu-chemnitz.de
CREATED:20080221T210500Z
DTSTAMP:20210802T194330Z
END:VEVENT
END:VCALENDAR
