BEGIN:VCALENDAR
VERSION:2.0
PRODID:TU Chemnitz
METHOD:PUBLISH
X-WR-CALNAME:Veranstaltungen der TU Chemnitz
X-WR-TIMEZONE:Europe/Berlin
BEGIN:VEVENT
CLASS:PUBLIC
DTSTART;TZID="Europe/Berlin":20000411T140000
DTEND;TZID="Europe/Berlin":20000411T190000
LOCATION:Uni-Teil 3: Reichenhainer Str. 70\, Chemnitz (Rühlmann-Bau)
SUMMARY:INTERNET und INTRANET - wie paßt das in mein Unternehmen? (Fakultät für Maschinenbau und Verfahrenstechnik\, CIMTT)
DESCRIPTION:Dr.-Ing. B. Lieberwirth\, TU Chemnitz\, Professur Fertigungslehre\nDipl.-Ing. Christa Klemesch-Lasch\, 0371-531/2218\, c.lasch@mb2.tu-chemnitz.de
ORGANIZER:MAILTO:ufer@hrz.tu-chemnitz.de
UID:986@www.tu-chemnitz.de
CREATED:20000229T130200Z
DTSTAMP:20210802T203110Z
END:VEVENT
END:VCALENDAR
