BEGIN:VCALENDAR
VERSION:2.0
PRODID:TU Chemnitz
METHOD:PUBLISH
X-WR-CALNAME:Veranstaltungen der TU Chemnitz
X-WR-TIMEZONE:Europe/Berlin
BEGIN:VEVENT
CLASS:PUBLIC
DTSTART;TZID="Europe/Berlin":20080604T130000
DTEND;TZID="Europe/Berlin":20080605T030000
LOCATION:Campus Reichenhainer Straße
SUMMARY:Campus- und Sportfest (TU Chemnitz\, Marketing/Öffentlichkeitsarbeit\, Institut für Sportwissenschaften)
DESCRIPTION:Campusfest: Judith Meyer\, Tel. 531 37151\, judith.meyer@verwaltung.tu-chemnitz.de; Sportfest: Tel. 531 32917
ORGANIZER:MAILTO:judith.meyer@verwaltung.tu-chemnitz.de
UID:9853@www.tu-chemnitz.de
CREATED:20080219T100900Z
DTSTAMP:20210802T194112Z
END:VEVENT
END:VCALENDAR
