BEGIN:VCALENDAR
VERSION:2.0
PRODID:TU Chemnitz
METHOD:PUBLISH
X-WR-CALNAME:Veranstaltungen der TU Chemnitz
X-WR-TIMEZONE:Europe/Berlin
BEGIN:VEVENT
CLASS:PUBLIC
DTSTART;TZID="Europe/Berlin":20080424T083000
DTEND;TZID="Europe/Berlin":20080424T130000
LOCATION:Reichenhainer Str. 90\, Chemnitz (Zentr. Hörsaal- und Seminargebäude)
SUMMARY:Girls'Day an der TU Chemnitz (TU Chemnitz\, Marketing/Öffentlichkeitsarbeit)
DESCRIPTION:Judith Meyer B.A.\, Tel. 531-37151\, Katja Porschhöfer\, M.A.\, 531-31531
ORGANIZER:MAILTO:iroe@hrz.tu-chemnitz.de
UID:9851@www.tu-chemnitz.de
CREATED:20080218T153800Z
DTSTAMP:20210802T194248Z
END:VEVENT
END:VCALENDAR
