BEGIN:VCALENDAR
VERSION:2.0
PRODID:TU Chemnitz
METHOD:PUBLISH
X-WR-CALNAME:Veranstaltungen der TU Chemnitz
X-WR-TIMEZONE:Europe/Berlin
BEGIN:VEVENT
CLASS:PUBLIC
DTSTART;TZID="Europe/Berlin":20080216T210000
DTEND;TZID="Europe/Berlin":20080216T235900
LOCATION:Kino\, Reichenhainer Str. 35/37\, Keller
SUMMARY:* KONZERT 2050 * (Live: Solche) (Filmclub »mittendrin« & PEB Studentenkeller)
DESCRIPTION:Zum 100. mal auf der Bühne\, zum ersten mal getrennt.\n"KOlossales KOnferenz-KOnzert" in PEB und "mittendrin". Einer in "Russland"\, einer in "Spanien" - und wenn die Technik mitspielt sind beide in beiden Clubs live nebeneinander zu erleben ...
ORGANIZER:MAILTO:schneide@hrz.tu-chemnitz.de
UID:9834@www.tu-chemnitz.de
CREATED:20080211T131900Z
DTSTAMP:20210802T194405Z
END:VEVENT
END:VCALENDAR
