BEGIN:VCALENDAR
VERSION:2.0
PRODID:TU Chemnitz
METHOD:PUBLISH
X-WR-CALNAME:Veranstaltungen der TU Chemnitz
X-WR-TIMEZONE:Europe/Berlin
BEGIN:VEVENT
CLASS:PUBLIC
DTSTART;TZID="Europe/Berlin":20080219T210000
DTEND;TZID="Europe/Berlin":20080219T230000
LOCATION:Kino\, Reichenhainer Str. 35/37\, Keller
SUMMARY:[Campuskino * "mittendrin"] Für den unbekannten Hund (Filmclub »mittendrin«)
DESCRIPTION:Nach ihrem vielbeachteten und enorm erfolgreichen Debütfilm "Oi! Warning" melden sich Dominik und Benjamin Reding endlich mit einem weiteren aufsehenerregenden\, aufwühlenden und explosiven Film zurück.
ORGANIZER:MAILTO:schneide@hrz.tu-chemnitz.de
UID:9833@www.tu-chemnitz.de
CREATED:20080211T131600Z
DTSTAMP:20210802T194404Z
END:VEVENT
END:VCALENDAR
