BEGIN:VCALENDAR
VERSION:2.0
PRODID:TU Chemnitz
METHOD:PUBLISH
X-WR-CALNAME:Veranstaltungen der TU Chemnitz
X-WR-TIMEZONE:Europe/Berlin
BEGIN:VEVENT
CLASS:PUBLIC
DTSTART;TZID="Europe/Berlin":20080212T210000
DTEND;TZID="Europe/Berlin":20080212T230000
LOCATION:Kino\, Reichenhainer Str. 35/37\, Keller
SUMMARY:[Campuskino * "mittendrin"] Mein bester Freund (Filmclub »mittendrin«)
DESCRIPTION:Ein Workaholic auf der Suche nach einem vorzeigbaren "wahren Freund". Was als reine Komödie angedacht war\, entfaltet sich jetzt auf der Leinwand als vielschichtiges Buddy-Movie und Plädoyer dafür\, sich Weggefährten zu suchen.
ORGANIZER:MAILTO:schneide@hrz.tu-chemnitz.de
UID:9832@www.tu-chemnitz.de
CREATED:20080211T131400Z
DTSTAMP:20210802T194404Z
END:VEVENT
END:VCALENDAR
