BEGIN:VCALENDAR
VERSION:2.0
PRODID:TU Chemnitz
METHOD:PUBLISH
X-WR-CALNAME:Veranstaltungen der TU Chemnitz
X-WR-TIMEZONE:Europe/Berlin
BEGIN:VEVENT
CLASS:PUBLIC
DTSTART;TZID="Europe/Berlin":20080208T210000
DTEND;TZID="Europe/Berlin":20080208T235900
LOCATION:* Bunker-Club * Rosenplatz 7 * gleich am Campus *
SUMMARY:TRASH ROCK A BILLY SHOW: (Live: KAMIKAZE QUEENS + SUFFY SAND COMBO)
DESCRIPTION:Nicht nur musikalisch sondern auch durch ihre Show eine Rock and Roll-Zeitreise zurück in die 60er und 70er Jahre.\n"Punk Cabaret From Honky Tonk Hell" ist dabei fast noch untertrieben...\n[www.myspace.com/kamikazequeens]\n[www.suffysand.com]
ORGANIZER:MAILTO:schneide@hrz.tu-chemnitz.de
UID:9830@www.tu-chemnitz.de
CREATED:20080208T144800Z
DTSTAMP:20210802T194404Z
END:VEVENT
END:VCALENDAR
