BEGIN:VCALENDAR
VERSION:2.0
PRODID:TU Chemnitz
METHOD:PUBLISH
X-WR-CALNAME:Veranstaltungen der TU Chemnitz
X-WR-TIMEZONE:Europe/Berlin
BEGIN:VEVENT
CLASS:PUBLIC
DTSTART;TZID="Europe/Berlin":20080220T134500
DTEND;TZID="Europe/Berlin":20080220T151500
LOCATION:Reichenhainer Str. 70\, Chemnitz (Rühlmann-Bau)
SUMMARY:Kursreihe SW-Tools: "Umgang mit PDF-Dokumenten" (Universitätsrechenzentrum)
DESCRIPTION:PDF im Alltag - Informationen aus dem Internet\, Vorlesungsskripte\, Bewerbungen ...\nDipl.-Math. Matthias Ehrig
ORGANIZER:MAILTO:rosita.pudlat@hrz.tu-chemnitz.de
UID:9829@www.tu-chemnitz.de
CREATED:20080208T142800Z
DTSTAMP:20210802T194409Z
END:VEVENT
END:VCALENDAR
