BEGIN:VCALENDAR
VERSION:2.0
PRODID:TU Chemnitz
METHOD:PUBLISH
X-WR-CALNAME:Veranstaltungen der TU Chemnitz
X-WR-TIMEZONE:Europe/Berlin
BEGIN:VEVENT
CLASS:PUBLIC
DTSTART;TZID="Europe/Berlin":20080607T190000
DTEND;TZID="Europe/Berlin":20080607T210000
LOCATION:"Hoffnungskirche" in Freital-Hainsberg\, Kirchstr. 12
SUMMARY:Der Messias von Händel (Collegium musicum und Motettenchor der TU Chemnitz)
DESCRIPTION:weitere Informationen zu Programm und Anreise unter\nhttp://www.tu-chemnitz.de/tu/cm/vorschau.php
ORGANIZER:MAILTO:meh@hrz
UID:9814@www.tu-chemnitz.de
CREATED:20080131T081600Z
DTSTAMP:20210802T194112Z
END:VEVENT
END:VCALENDAR
