BEGIN:VCALENDAR
VERSION:2.0
PRODID:TU Chemnitz
METHOD:PUBLISH
X-WR-CALNAME:Veranstaltungen der TU Chemnitz
X-WR-TIMEZONE:Europe/Berlin
BEGIN:VEVENT
CLASS:PUBLIC
DTSTART;TZID="Europe/Berlin":20001024T090000
DTEND;TZID="Europe/Berlin":20001025T200000
LOCATION:Stadthalle Chemnitz
SUMMARY:7. Sächsische Fachtagung Umformtechnik SFU 2000 - Leichtbau durch Umformtechnik (Fakultät für Maschinenbau und Verfahrenstechnik\, Professur Werkzeugmaschinen\, gemeinsam mit dem Fraunhofer-Institut für Werkzeugmaschinen und Umformtechnik Chemnitz)
DESCRIPTION:Im Mittelpunkt steht die praktische Anwendung neuester Entwicklungen der Umformtechnik. Schwerpunktthema ist in diesem Jahr der Leichtbau\, dessen Anliegen es ist\, optimale Funktionalität bei minimaler Masse und vertretbaren Kosten zu erreichen.\nsfu2000@iwu.fhg.de
ORGANIZER:MAILTO:ducom@hrz.tu-chemnitz.de
UID:981@www.tu-chemnitz.de
CREATED:20000224T140700Z
DTSTAMP:20210802T202904Z
END:VEVENT
END:VCALENDAR
