BEGIN:VCALENDAR
VERSION:2.0
PRODID:TU Chemnitz
METHOD:PUBLISH
X-WR-CALNAME:Veranstaltungen der TU Chemnitz
X-WR-TIMEZONE:Europe/Berlin
BEGIN:VEVENT
CLASS:PUBLIC
DTSTART;TZID="Europe/Berlin":20080204T193000
DTEND;TZID="Europe/Berlin":20080204T230000
LOCATION:Reichenhainer Str. 55\, Chemnitz (Mensa)
SUMMARY:99er - Kneipe 
DESCRIPTION:viele Getränkespecials...\ndazu live Jena gegen Aachen \nkönnen die Thüringer noch den Abstieg verhindern\nEinschreibung für das letzte Pokerturnier
ORGANIZER:MAILTO:piek@hrz.tu-chemnitz.de
UID:9793@www.tu-chemnitz.de
CREATED:20080123T140600Z
DTSTAMP:20210802T194403Z
END:VEVENT
END:VCALENDAR
