BEGIN:VCALENDAR
VERSION:2.0
PRODID:TU Chemnitz
METHOD:PUBLISH
X-WR-CALNAME:Veranstaltungen der TU Chemnitz
X-WR-TIMEZONE:Europe/Berlin
BEGIN:VEVENT
CLASS:PUBLIC
DTSTART;TZID="Europe/Berlin":20000405T093000
DTEND;TZID="Europe/Berlin":20000405T150000
LOCATION:Commerzbank AG\, Frankfurt\, Auditorium\, Große Gallusstraße 19
SUMMARY:Aufbruch an deutschen Hochschulen - Symposium (TU Chemnitz\, Commerzbank AG\, Frankfurt)
DESCRIPTION:Das deutsche Hochschulwesen muss sich ändern. Fünf Lehrstühle\, die neue\nLehrkonzepte bereits umgesetzt haben\, stellen ihre Innovationen vor. Sechs führende Institutionen des deutschen\nBildungswesens berichten über ihre Zukunftsvorstellungen.\nProf. Dr. Friedrich Thießen u.a.\nProf. Dr. Thießen\, (0371) 531-4188\, f.thiessen@wirtschaft.tu-chemnitz.de
ORGANIZER:MAILTO:aau@hrz.tu-chemnitz.de
UID:979@www.tu-chemnitz.de
CREATED:20000222T171200Z
DTSTAMP:20210802T203113Z
END:VEVENT
END:VCALENDAR
