BEGIN:VCALENDAR
VERSION:2.0
PRODID:TU Chemnitz
METHOD:PUBLISH
X-WR-CALNAME:Veranstaltungen der TU Chemnitz
X-WR-TIMEZONE:Europe/Berlin
BEGIN:VEVENT
CLASS:PUBLIC
DTSTART;TZID="Europe/Berlin":20080529T160000
DTEND;TZID="Europe/Berlin":20080529T173000
LOCATION:Reichenhainer Str. 70\, Chemnitz (Rühlmann-Bau)
SUMMARY:Bewegung von Nanopartikeln in einem Medium: Modellierung\, Analysis\, Simulation (Fakultät für Mathematik)
DESCRIPTION:Der ehemalige Vorsitzende des Wissenschaftsrats\n(wohl der einzige Mathematiker in diesem Job seit Bestehen der Bundesrepublik)\nund Promoter vieler Projekte der Angewandten Mathematik wird im Rahmen des Jahrs\nder Mathematik bei uns einen Vortrag halten.\nKarl-Heinz Hoffmann
ORGANIZER:MAILTO:frank.goering@mathematik.tu-chemnitz.de
UID:9782@www.tu-chemnitz.de
CREATED:20080122T093700Z
DTSTAMP:20210802T194155Z
END:VEVENT
END:VCALENDAR
