BEGIN:VCALENDAR
VERSION:2.0
PRODID:TU Chemnitz
METHOD:PUBLISH
X-WR-CALNAME:Veranstaltungen der TU Chemnitz
X-WR-TIMEZONE:Europe/Berlin
BEGIN:VEVENT
CLASS:PUBLIC
DTSTART;TZID="Europe/Berlin":20080122T193000
DTEND;TZID="Europe/Berlin":20080122T235900
LOCATION:Reichenhainer Str. 55\, Chemnitz (Mensa)
SUMMARY:Dartmeisterschaft
DESCRIPTION:Wer spielt am schnellsten die 501 herunter? jede 180 gibt ein Freigetränk\nAnmeldung an der TaC Bar\nwie immer tolle Preise zu gewinnen
ORGANIZER:MAILTO:piek@hrz.tu-chemnitz.de
UID:9774@www.tu-chemnitz.de
CREATED:20080120T125100Z
DTSTAMP:20210802T194454Z
END:VEVENT
END:VCALENDAR
