BEGIN:VCALENDAR
VERSION:2.0
PRODID:TU Chemnitz
METHOD:PUBLISH
X-WR-CALNAME:Veranstaltungen der TU Chemnitz
X-WR-TIMEZONE:Europe/Berlin
BEGIN:VEVENT
CLASS:PUBLIC
DTSTART;TZID="Europe/Berlin":20080118T160000
DTEND;TZID="Europe/Berlin":20080120T170000
LOCATION:Reichenhainer Str. 55\, Chemnitz (Mensa)
SUMMARY:Capoeira-Workshop (Capoeira-Gruppe der TU-Chemnitz)
DESCRIPTION:3-tägiger Workshop in dem der brasilianische Kampf-Tanz Capoeira vermittelt wird.Trainiert wird von 2 Mestres und einem Professor der Capoeira. Ideal auch für Einsteiger!\nchemdine@gmail.com
ORGANIZER:MAILTO:cfmogo@gmail.com
UID:9765@www.tu-chemnitz.de
CREATED:20080116T182300Z
DTSTAMP:20210802T194443Z
END:VEVENT
END:VCALENDAR
