BEGIN:VCALENDAR
VERSION:2.0
PRODID:TU Chemnitz
METHOD:PUBLISH
X-WR-CALNAME:Veranstaltungen der TU Chemnitz
X-WR-TIMEZONE:Europe/Berlin
BEGIN:VEVENT
CLASS:PUBLIC
DTSTART;TZID="Europe/Berlin":20080219T130000
DTEND;TZID="Europe/Berlin":20080219T130000
LOCATION:Reichenhainer Str. 70\, Chemnitz (Rühlmann-Bau)
SUMMARY:Promotion (Fakultät für Maschinenbau)
DESCRIPTION:Referenzmodellierung technologischer Hauptprozesse der grafischen Industrie\nDipl.-Ing. Michael Reiche
ORGANIZER:MAILTO:kerstin.hensel@mb.tu-chemnitz.de
UID:9757@www.tu-chemnitz.de
CREATED:20080114T131400Z
DTSTAMP:20210802T194410Z
END:VEVENT
END:VCALENDAR
