BEGIN:VCALENDAR
VERSION:2.0
PRODID:TU Chemnitz
METHOD:PUBLISH
X-WR-CALNAME:Veranstaltungen der TU Chemnitz
X-WR-TIMEZONE:Europe/Berlin
BEGIN:VEVENT
CLASS:PUBLIC
DTSTART;TZID="Europe/Berlin":20080213T100000
DTEND;TZID="Europe/Berlin":20080213T160000
LOCATION:Reichenhainer Str. 70\, Chemnitz (Weinhold-Bau)
SUMMARY:Lernzentrum der TU Chemnitz: "Your Disco needs you! DJing\, VJing & Co" - Moderne Werkzeuge für den kreativen Umgang mit Musik und Video (Fakultät für Mathematik\, CreativeCenter)
DESCRIPTION:Seminarkosten: 7\,50€ für Schüler/Studierende; 15€ für Erwachsene\, max. 10 Teilnehmer\nRonny Kilian\, event + media Chemnitz\nFranziska Freund\, Tel.: 0371/531 36596\, e-mail: franziska.freund@mb.tu-chemnitz.de
ORGANIZER:MAILTO:franziska.freund@mb.tu-chemnitz
UID:9753@www.tu-chemnitz.de
CREATED:20080111T155400Z
DTSTAMP:20210802T194403Z
END:VEVENT
END:VCALENDAR
