BEGIN:VCALENDAR
VERSION:2.0
PRODID:TU Chemnitz
METHOD:PUBLISH
X-WR-CALNAME:Veranstaltungen der TU Chemnitz
X-WR-TIMEZONE:Europe/Berlin
BEGIN:VEVENT
CLASS:PUBLIC
DTSTART;TZID="Europe/Berlin":20080211T100000
DTEND;TZID="Europe/Berlin":20080211T160000
LOCATION:Reichenhainer Str. 70\, Chemnitz (Weinhold-Bau)
SUMMARY:Lernzentrum der TU Chemnitz: "Heureka - ich hab´s! Kreativ- und Erfindertag" (Fakultät für Mathematik\, CreativeCenter)
DESCRIPTION:Seminarkosten: 5\,00€ für Schüler/Studenten\, max. 15 Teilnehmer\nKatja Wagner\nFranziska Freund\, Tel.: 0371/531 36596\, e-mail: franziska.freund@mb.tu-chemnitz.de
ORGANIZER:MAILTO:franziska.freund@mb.tu-chemnitz
UID:9752@www.tu-chemnitz.de
CREATED:20080111T154400Z
DTSTAMP:20210802T194410Z
END:VEVENT
END:VCALENDAR
