BEGIN:VCALENDAR
VERSION:2.0
PRODID:TU Chemnitz
METHOD:PUBLISH
X-WR-CALNAME:Veranstaltungen der TU Chemnitz
X-WR-TIMEZONE:Europe/Berlin
BEGIN:VEVENT
CLASS:PUBLIC
DTSTART;TZID="Europe/Berlin":20080207T100000
DTEND;TZID="Europe/Berlin":20080207T140000
LOCATION:Reichenhainer Str. 70\, Chemnitz (Weinhold-Bau)
SUMMARY:Lernzentrum der TU Chemnitz: "Einmal im Chefsessel sitzen - spielend ein Unternehmen managen" (Fakultät für Maschinenbau\, CreativeCenter)
DESCRIPTION:Seminarkosten: 4\,00€ für Schüler/Studierende\, max.12 Teilnehmer\nFranziska Freund\, Tel.: 0371/531 36596\, e-mail: franziska.freund@mb.tu-chemnitz.de
ORGANIZER:MAILTO:franziska.freund@mb.tu-chemnitz
UID:9751@www.tu-chemnitz.de
CREATED:20080111T142800Z
DTSTAMP:20210802T194410Z
END:VEVENT
END:VCALENDAR
