BEGIN:VCALENDAR
VERSION:2.0
PRODID:TU Chemnitz
METHOD:PUBLISH
X-WR-CALNAME:Veranstaltungen der TU Chemnitz
X-WR-TIMEZONE:Europe/Berlin
BEGIN:VEVENT
CLASS:PUBLIC
DTSTART;TZID="Europe/Berlin":20080124T210000
DTEND;TZID="Europe/Berlin":20080124T230000
LOCATION:Kino\, Reichenhainer Str. 35/37\, Keller
SUMMARY:[Campuskino * "mittendrin"] Film[k]ost-Nachschlag: Love sick (Filmclub »mittendrin«)
DESCRIPTION:Zwischen den Studentinnen Kiki und Alex ist eine fragile Beziehung am Entstehen. Doch dann taucht ihr Kikis Bruder auf und will seine Rechte als Liebhaber gelten machen... Ein Film der der andere\, weiche Seite der Gesellschaft Rumäniens aufzeigt\nEintritt: 1\,50 Euro/Original mit englischen Untertitel
ORGANIZER:MAILTO:robert.gerstenberger@s2004.tu-chemnitz.de
UID:9745@www.tu-chemnitz.de
CREATED:20080110T011200Z
DTSTAMP:20210802T194445Z
END:VEVENT
END:VCALENDAR
