BEGIN:VCALENDAR
VERSION:2.0
PRODID:TU Chemnitz
METHOD:PUBLISH
X-WR-CALNAME:Veranstaltungen der TU Chemnitz
X-WR-TIMEZONE:Europe/Berlin
BEGIN:VEVENT
CLASS:PUBLIC
DTSTART;TZID="Europe/Berlin":20080116T190000
DTEND;TZID="Europe/Berlin":20080116T203000
LOCATION:Reichenhainer Str. 90\, Chemnitz (Zentr. Hörsaal- und Seminargebäude)
SUMMARY:Sprich Gutes! Die sieben Todsünden der Kommunikation im Gesundheitsmarkt (Philosophische Fakultät\, Reihe Sprache - Medien -Praxis)
DESCRIPTION:Dr.med. Jörg Zimmermann (Leipzig)
ORGANIZER:MAILTO:ruth.geier@phil.tu-chemnitz.de
UID:9742@www.tu-chemnitz.de
CREATED:20080109T193600Z
DTSTAMP:20210802T194451Z
END:VEVENT
END:VCALENDAR
