BEGIN:VCALENDAR
VERSION:2.0
PRODID:TU Chemnitz
METHOD:PUBLISH
X-WR-CALNAME:Veranstaltungen der TU Chemnitz
X-WR-TIMEZONE:Europe/Berlin
BEGIN:VEVENT
CLASS:PUBLIC
DTSTART;TZID="Europe/Berlin":20080518T103000
DTEND;TZID="Europe/Berlin":20080518T111500
LOCATION:Reichenhainer Str. 90\, Chemnitz (Zentr. Hörsaal- und Seminargebäude)
SUMMARY:SonntagsUni-Spezial für Eltern\, Großeltern und Interessierte (parallel zur Pfiffikus-Kindervorlesung): „Ab jetzt spielt eine andere Musik!“ – Musikalisch-künstlerische Förderung von Kindern (Fakultät für Maschinenbau\, CreativeCenter)
DESCRIPTION:Der Teilnahmebeitrag beträgt pro Veranstaltung 2\,50 Euro. Eine Anmeldung ist nicht erforderlich\nProf. Dr. Hartmut Zabel\, Hochschule für Musik Carl Maria von Weber Dresden und stellvertretender Vorsitzender des Landeselternr\nJana Voigt\, Tel.: 0371/ 531 35558\, E-Mail: jana.voigt@mb.tu-chemnitz.de
ORGANIZER:MAILTO:jana.voigt@mb.tu-chemnitz.de
UID:9719@www.tu-chemnitz.de
CREATED:20080105T224000Z
DTSTAMP:20210802T194147Z
END:VEVENT
END:VCALENDAR
