BEGIN:VCALENDAR
VERSION:2.0
PRODID:TU Chemnitz
METHOD:PUBLISH
X-WR-CALNAME:Veranstaltungen der TU Chemnitz
X-WR-TIMEZONE:Europe/Berlin
BEGIN:VEVENT
CLASS:PUBLIC
DTSTART;TZID="Europe/Berlin":20080111T140000
DTEND;TZID="Europe/Berlin":20080111T180000
LOCATION:Str. der Nationen 62\, Chemnitz (Altes Heizhaus)
SUMMARY:The Location of Political Culture (Philosophische Fakultät)
DESCRIPTION:Symposium für Hans Kastendiek\, Professor für britische und amerikanische Kultur- und Länderstudien\nBeiträge von Andrew Gamble (Cambridge)\, Jana Gohrisch (Hannover)\, Richard Stinshoff (Oldenburg)\, Josef Schmied et al. (Chemnitz)\, Sebastian Berg (Chemnitz)\nSebastian Berg\, 531-34235\, sebastian.berg@phil.tu-chemnitz.de
ORGANIZER:MAILTO:sebastian.berg@phil.tu-chemnitz.de
UID:9709@www.tu-chemnitz.de
CREATED:20080104T103400Z
DTSTAMP:20210802T194454Z
END:VEVENT
END:VCALENDAR
