BEGIN:VCALENDAR
VERSION:2.0
PRODID:TU Chemnitz
METHOD:PUBLISH
X-WR-CALNAME:Veranstaltungen der TU Chemnitz
X-WR-TIMEZONE:Europe/Berlin
BEGIN:VEVENT
CLASS:PUBLIC
DTSTART;TZID="Europe/Berlin":20080306T200000
DTEND;TZID="Europe/Berlin":20080306T220000
LOCATION:Str. der Nationen 62\, Chemnitz (Böttcher-Bau)
SUMMARY:AgricolaFORUM - Der Drache erwacht. Chinas Wandel von unten. (TU Chemnitz\, Kathedralforum Dresden)
DESCRIPTION:Chinas Wandel - Prof. Heberer\, profunder Chinakenner und ausgewiesener Forscher\, nimmt ein hochaktuelles Thema von Politik und Wirtschaft aus verschiedenen Perspektiven in den Zirkel und beschreibt die Faktoren des Wandels "von unten".\nProf. Dr. Thomas Heberer (Duisburg/Essen)
ORGANIZER:MAILTO:friedrich.naumann@phil.tu-chemnitz.de
UID:9706@www.tu-chemnitz.de
CREATED:20080103T111100Z
DTSTAMP:20210802T194330Z
END:VEVENT
END:VCALENDAR
