BEGIN:VCALENDAR
VERSION:2.0
PRODID:TU Chemnitz
METHOD:PUBLISH
X-WR-CALNAME:Veranstaltungen der TU Chemnitz
X-WR-TIMEZONE:Europe/Berlin
BEGIN:VEVENT
CLASS:PUBLIC
DTSTART;TZID="Europe/Berlin":20080207T200000
DTEND;TZID="Europe/Berlin":20080207T220000
LOCATION:Str. der Nationen 62\, Chemnitz (Böttcher-Bau)
SUMMARY:AgricolaFORUM - Stadtumbau Chemnitz\, Anspruch und Wirklichkeit (TU Chemnitz\, Kathedralforum Dresden)
DESCRIPTION:Auch Chemnitz ist vom demographischen Wandel betroffen - einerseits entstehen Einkaufstempel\, andererseits wird wertvolle Gebäudesubstanz abgerissen. Im Vortrag sollen Lösungen diskutiert werden\, die möglicherweise auch auf andere Städte anwendbar sind.\nBörries Butenop\, Stadtentwicklungsamt Chemnitz
ORGANIZER:MAILTO:friedrich.naumann@phil.tu-chemnitz.de
UID:9705@www.tu-chemnitz.de
CREATED:20080103T110200Z
DTSTAMP:20210802T194409Z
END:VEVENT
END:VCALENDAR
