BEGIN:VCALENDAR
VERSION:2.0
PRODID:TU Chemnitz
METHOD:PUBLISH
X-WR-CALNAME:Veranstaltungen der TU Chemnitz
X-WR-TIMEZONE:Europe/Berlin
BEGIN:VEVENT
CLASS:PUBLIC
DTSTART;TZID="Europe/Berlin":20080111T210000
DTEND;TZID="Europe/Berlin":20080112T040000
LOCATION:Weltecho\, Chemnitz
SUMMARY:Balkanbeats Berlin zu Gast im Klub Solit&#228;r
DESCRIPTION:<MOVIE>TALK>BEATS> Die Dokumentation Balkanbeats Berlin -Culture Recycling im Klub Solit&#228;r. Gastgeber Marko Stani wird in einem Gespr&#228;ch mit dem Regisseur Marko Valic hinter die Kulissen einer Emigrationgsgeschichte schauen. Im Anschluss TANZ.\nKlub Solit&#228;r - Stanzmuzika
ORGANIZER:MAILTO:Stahn
UID:9701@www.tu-chemnitz.de
CREATED:20071227T145200Z
DTSTAMP:20210802T194445Z
END:VEVENT
END:VCALENDAR
