BEGIN:VCALENDAR
VERSION:2.0
PRODID:TU Chemnitz
METHOD:PUBLISH
X-WR-CALNAME:Veranstaltungen der TU Chemnitz
X-WR-TIMEZONE:Europe/Berlin
BEGIN:VEVENT
CLASS:PUBLIC
DTSTART;TZID="Europe/Berlin":20071213T103000
DTEND;TZID="Europe/Berlin":20071213T235900
LOCATION:Treffpunkt Innenhof StraNa\, Weiterfahrt nach Dresden
SUMMARY:Sie verlassen den Demokratischen Sektor (Studentenrat)
DESCRIPTION:In der aktuell vorliegenden Version des neuen SächsHG wird die Mitbestimmung eines Großteils der Mitglieder der Hochschulen massiv eingeschränkt. Dagegen wird vor dem Landtag in Dresden demonstriert
ORGANIZER:MAILTO:holger.langenau@s2004.tu-chemnitz.de
UID:9677@www.tu-chemnitz.de
CREATED:20071209T221900Z
DTSTAMP:20210802T194531Z
END:VEVENT
END:VCALENDAR
