BEGIN:VCALENDAR
VERSION:2.0
PRODID:TU Chemnitz
METHOD:PUBLISH
X-WR-CALNAME:Veranstaltungen der TU Chemnitz
X-WR-TIMEZONE:Europe/Berlin
BEGIN:VEVENT
CLASS:PUBLIC
DTSTART;TZID="Europe/Berlin":20071211T190000
DTEND;TZID="Europe/Berlin":20071212T010000
LOCATION:Vettersstr. 70/72\, Chemnitz (Studentenwohnheim)
SUMMARY:Studentische Weihnachtsfeier des Instituts für Print- und Medientechnik (TU Chemnitz\, Institut für Print- und Medientechnik)
DESCRIPTION:Alle Jahre wieder findet die studentische Weihnachtsfeier des Instituts für Print- und Medientechnik statt.\nEingeladen sind alle Studenten und Mitarbeiter des Instituts.
ORGANIZER:MAILTO:maik.mueller@s2006.tu-chemnitz.de
UID:9671@www.tu-chemnitz.de
CREATED:20071205T145700Z
DTSTAMP:20210802T194536Z
END:VEVENT
END:VCALENDAR
