BEGIN:VCALENDAR
VERSION:2.0
PRODID:TU Chemnitz
METHOD:PUBLISH
X-WR-CALNAME:Veranstaltungen der TU Chemnitz
X-WR-TIMEZONE:Europe/Berlin
BEGIN:VEVENT
CLASS:PUBLIC
DTSTART;TZID="Europe/Berlin":20071212T210000
DTEND;TZID="Europe/Berlin":20071212T230000
LOCATION:Kino\, Reichenhainer Str. 35/37\, Keller
SUMMARY:[Campuskino * "mittendrin"] Demo-Sonderveranstaltung: Kick it like Frankreich (Studentenrat)
DESCRIPTION:Einen Tag vor der Demo in Dresden gegen die Novellierung des Hochschulgesetzes zeigen wir euch wir richtige Proteste funktionieren: die heftigen Proteste in Hessen.\nfreier Eintritt
ORGANIZER:MAILTO:robert.gerstenberger@s2004.tu-chemnitz.de
UID:9670@www.tu-chemnitz.de
CREATED:20071205T145000Z
DTSTAMP:20210802T194543Z
END:VEVENT
END:VCALENDAR
