BEGIN:VCALENDAR
VERSION:2.0
PRODID:TU Chemnitz
METHOD:PUBLISH
X-WR-CALNAME:Veranstaltungen der TU Chemnitz
X-WR-TIMEZONE:Europe/Berlin
BEGIN:VEVENT
CLASS:PUBLIC
DTSTART;TZID="Europe/Berlin":20071220T210000
DTEND;TZID="Europe/Berlin":20071220T230000
LOCATION:Kino\, Reichenhainer Str. 35/37\, Keller
SUMMARY:[Campuskino * "mittendrin"] Anderland (Filmclub »mittendrin«)
DESCRIPTION:Ohne eine Erinnerung findet sich Andreas in Anderland wieder: einer perfekte Welt\, in der man zufrieden\, aber nicht glücklich ist. Doch die Erklärung dahinter ist noch fern...
ORGANIZER:MAILTO:robert.gerstenberger@s2004.tu-chemnitz.de
UID:9669@www.tu-chemnitz.de
CREATED:20071205T144100Z
DTSTAMP:20210802T194540Z
END:VEVENT
END:VCALENDAR
