BEGIN:VCALENDAR
VERSION:2.0
PRODID:TU Chemnitz
METHOD:PUBLISH
X-WR-CALNAME:Veranstaltungen der TU Chemnitz
X-WR-TIMEZONE:Europe/Berlin
BEGIN:VEVENT
CLASS:PUBLIC
DTSTART;TZID="Europe/Berlin":20071204T190000
DTEND;TZID="Europe/Berlin":20071204T230000
LOCATION:Reichenhainer Str. 55\, Chemnitz (Mensa)
SUMMARY:Skatmeisterschaft
DESCRIPTION:das jährliche weihnachtsskatturnier im TaC betreut duch Herrn Kasselow vom Skatverein...\nAnmeldung an der TaC Bar\n1. Preis 55cm Fernseher
ORGANIZER:MAILTO:piek@hrz.tu-chemnitz.de
UID:9655@www.tu-chemnitz.de
CREATED:20071203T113000Z
DTSTAMP:20210802T194540Z
END:VEVENT
END:VCALENDAR
