BEGIN:VCALENDAR
VERSION:2.0
PRODID:TU Chemnitz
METHOD:PUBLISH
X-WR-CALNAME:Veranstaltungen der TU Chemnitz
X-WR-TIMEZONE:Europe/Berlin
BEGIN:VEVENT
CLASS:PUBLIC
DTSTART;TZID="Europe/Berlin":20071130T080000
DTEND;TZID="Europe/Berlin":20071130T120000
LOCATION:Club der Kulturen - gegen über der Mensa am Thüringer Weg
SUMMARY:Ersti-Prof-Abend (TU Chemnitz\, Fachschaft Maschinenbau)
DESCRIPTION:"Kennlernabend" Profs meets Studis\nFSR MB\nfsrmb@tu-chemnitz.de
ORGANIZER:MAILTO:fsrmb@tu-chemnitz.de
UID:9643@www.tu-chemnitz.de
CREATED:20071130T124700Z
DTSTAMP:20210802T194642Z
END:VEVENT
END:VCALENDAR
