BEGIN:VCALENDAR
VERSION:2.0
PRODID:TU Chemnitz
METHOD:PUBLISH
X-WR-CALNAME:Veranstaltungen der TU Chemnitz
X-WR-TIMEZONE:Europe/Berlin
BEGIN:VEVENT
CLASS:PUBLIC
DTSTART;TZID="Europe/Berlin":20071204T160000
DTEND;TZID="Europe/Berlin":20071204T173000
LOCATION:ZFG - Reichenhainer Str. 31-33
SUMMARY:Freies Training/Mitarbeiter (Institut für Sportwissenschaft)
DESCRIPTION:Bitte Sperrzeit beachten!\nKurs nur für Mitarbeiter!
ORGANIZER:MAILTO:stephanie.holzapfel@phil.tu-chemnitz.de
UID:9622@www.tu-chemnitz.de
CREATED:20071128T095900Z
DTSTAMP:20210802T194543Z
END:VEVENT
END:VCALENDAR
