BEGIN:VCALENDAR
VERSION:2.0
PRODID:TU Chemnitz
METHOD:PUBLISH
X-WR-CALNAME:Veranstaltungen der TU Chemnitz
X-WR-TIMEZONE:Europe/Berlin
BEGIN:VEVENT
CLASS:PUBLIC
DTSTART;TZID="Europe/Berlin":20071219T140000
DTEND;TZID="Europe/Berlin":20071219T160000
LOCATION:Str. der Nationen 62\, Chemnitz (Böttcher-Bau)
SUMMARY:Informatik-Kolloquium (Fakultät für Informatik)
DESCRIPTION:"QBäume - Effizientes Retrieval von Graphen mit Hilfe von Strukturinvarianten"\nHerr Ralf Neubert
ORGANIZER:MAILTO:dekanat@informatik.tu-chemnitz.de
UID:9615@www.tu-chemnitz.de
CREATED:20071128T092100Z
DTSTAMP:20210802T194536Z
END:VEVENT
END:VCALENDAR
