BEGIN:VCALENDAR
VERSION:2.0
PRODID:TU Chemnitz
METHOD:PUBLISH
X-WR-CALNAME:Veranstaltungen der TU Chemnitz
X-WR-TIMEZONE:Europe/Berlin
BEGIN:VEVENT
CLASS:PUBLIC
DTSTART;TZID="Europe/Berlin":20071205T134500
DTEND;TZID="Europe/Berlin":20071205T151500
LOCATION:Reichenhainer Str. 90\, Chemnitz (Zentr. Hörsaal- und Seminargebäude)
SUMMARY:"Aet&Ka - oder wie zwei kompetente Typen den Telekommunikationsmarkt erobern“ (Fakultät für Wirtschaftswissenschaften\, Professur Marketing und Handelsbetriebslehre)
DESCRIPTION:Dipl.-Ing. Uwe Bauer
ORGANIZER:MAILTO:simone.sprunk@wirtschaft.tu-chemnitz.de
UID:9610@www.tu-chemnitz.de
CREATED:20071127T141400Z
DTSTAMP:20210802T194531Z
END:VEVENT
END:VCALENDAR
