BEGIN:VCALENDAR
VERSION:2.0
PRODID:TU Chemnitz
METHOD:PUBLISH
X-WR-CALNAME:Veranstaltungen der TU Chemnitz
X-WR-TIMEZONE:Europe/Berlin
BEGIN:VEVENT
CLASS:PUBLIC
DTSTART;TZID="Europe/Berlin":20071127T190000
DTEND;TZID="Europe/Berlin":20071127T200000
LOCATION:Reichenhainer Str. 31-33
SUMMARY:Step Aerobic (Institut für Sportwissenschaft)
DESCRIPTION:Ein intensives\, gelenkschonendes\, aerobes Fitnesstraining mit Schrittkombinationen auf dem Step\, bei dem große Muskelgruppen beansprucht werden.\nLuise Niemand
ORGANIZER:MAILTO:stephanie.holzapfel@phil.tu-chemnitz.de
UID:9590@www.tu-chemnitz.de
CREATED:20071123T133100Z
DTSTAMP:20210802T194647Z
END:VEVENT
END:VCALENDAR
